BEGIN:VCALENDAR
VERSION:2.0
PRODID:-//Dallas Asian American Youth Orchestra - ECPv6.15.13//NONSGML v1.0//EN
CALSCALE:GREGORIAN
METHOD:PUBLISH
X-WR-CALNAME:Dallas Asian American Youth Orchestra
X-ORIGINAL-URL:https://daayo.org
X-WR-CALDESC:Events for Dallas Asian American Youth Orchestra
REFRESH-INTERVAL;VALUE=DURATION:PT1H
X-Robots-Tag:noindex
X-PUBLISHED-TTL:PT1H
BEGIN:VTIMEZONE
TZID:UTC
BEGIN:STANDARD
TZOFFSETFROM:+0000
TZOFFSETTO:+0000
TZNAME:UTC
DTSTART:20170101T000000
END:STANDARD
END:VTIMEZONE
BEGIN:VEVENT
DTSTART;TZID=UTC:20180520T143000
DTEND;TZID=UTC:20180520T153000
DTSTAMP:20260425T072638
CREATED:20180207T120500Z
LAST-MODIFIED:20180518T024949Z
UID:540-1526826600-1526830200@daayo.org
SUMMARY:Season Finale Concert: Moody Performance Hall - Matinee (Free to the Public!)
DESCRIPTION:Our season finale for our string orchestras will feature our string groups playing some great tunes! \nConcert Strings\nPagodas (Richard Meyer)\nLyric Metal (Brian Balmages)\nPerseus (Soon Hee Newbold) \nJunior Strings\nSwan Lake Act 2\, No.10 Tchaikovksy arr. Michael Hopkins\nSunayama (Larry Clark)\nLabyrinth (Vance Zuehlsdorff ed. Law) \nString Explorers\nRed Pepper (Jeffrey S. Bishop)\nJasmine Flower (Combined piece with Junior Strings) (Douglas E. Wagner) \n This concert is free to the public!
URL:https://daayo.org/concert/may-20th-2018-dallas-city-moody-performance-hall-matinee/
LOCATION:Moody Perfomance Hall\, 2520 Flora St\, Dallas\, TX\, 75201\, United States
CATEGORIES:Concert
ATTACH;FMTTYPE=image/jpeg:https://daayo.org/wp-content/uploads/2018/01/DAAYO_May20184-26-18-page-0-e1526593614680.jpg
END:VEVENT
BEGIN:VEVENT
DTSTART;TZID=UTC:20180520T193000
DTEND;TZID=UTC:20180520T210000
DTSTAMP:20260425T072638
CREATED:20180120T034331Z
LAST-MODIFIED:20180524T201255Z
UID:304-1526844600-1526850000@daayo.org
SUMMARY:Season Finale Concert: Moody Performance Hall Concert - Evening (Free to Public!)
DESCRIPTION:Join us as the winner of our concerto competition\, double bassist Nicholas Payne\, performs with our Symphony Orchestra! \nSee the full repertoire below: \nSymphony Orchestra\nBeethoven’s Symphony No.5 (all movements)\nJohann Baptist Vanhal’s Double Bass Concerto in D (1st movement) with soloist Nicholas Payne \nPhilharmonic Orchestra\nBeethoven’s Egmont Overture\nDvořák’s Symphony no. 8\, movement 3 \nThis concert is free to the public!
URL:https://daayo.org/concert/may-20th-2018-dallas-city-performance-hall/
LOCATION:Moody Perfomance Hall\, 2520 Flora St\, Dallas\, TX\, 75201\, United States
CATEGORIES:Concert
ATTACH;FMTTYPE=image/jpeg:https://daayo.org/wp-content/uploads/2018/01/DAAYO_May20184-26-18-page-0-e1526593614680.jpg
END:VEVENT
END:VCALENDAR